BEGIN:VCALENDAR
VERSION:2.0
PRODID:-//Plone.org//NONSGML plone.app.event//EN
X-WR-TIMEZONE:Europe/Rome
BEGIN:VEVENT
SUMMARY:Workshop: Quantitative Analysis Of Spatial Economic Development
DTSTART;TZID=Europe/Rome;VALUE=DATE-TIME:20171130T141500
DTEND;TZID=Europe/Rome;VALUE=DATE-TIME:20171130T190000
DTSTAMP;VALUE=DATE-TIME:20260425T044950Z
UID:8ddc2e0636c34d72a87c8774be140c69@stat.unibo.it
CREATED;VALUE=DATE-TIME:20171031T085429Z
LAST-MODIFIED;VALUE=DATE-TIME:20171129T095044Z
URL:https://stat.unibo.it/it/eventi/workshop-quantitative-analysis-of-spat
 ial-economic-development
END:VEVENT
BEGIN:VTIMEZONE
TZID:Europe/Rome
X-LIC-LOCATION:Europe/Rome
BEGIN:STANDARD
DTSTART;VALUE=DATE-TIME:20171029T020000
TZNAME:CET
TZOFFSETFROM:+0200
TZOFFSETTO:+0100
END:STANDARD
END:VTIMEZONE
END:VCALENDAR
