BEGIN:VCALENDAR
VERSION:2.0
PRODID:-//Plone.org//NONSGML plone.app.event//EN
X-WR-TIMEZONE:Europe/Rome
BEGIN:VEVENT
SUMMARY:Workshop on "Instrumental Variables in the Social and Behavioral S
 ciences"
DTSTART;TZID=Europe/Rome;VALUE=DATE-TIME:20150915T110000
DTEND;TZID=Europe/Rome;VALUE=DATE-TIME:20150915T160000
DTSTAMP;VALUE=DATE-TIME:20260425T050548Z
UID:f5c1921522884d3f949f5b0e3e6cac53@stat.unibo.it
CREATED;VALUE=DATE-TIME:20150907T044250Z
LAST-MODIFIED;VALUE=DATE-TIME:20150907T044319Z
URL:https://stat.unibo.it/it/eventi/workshop-on-instrumental-variables-in-
 the-social-and-behavioral-sciences
END:VEVENT
BEGIN:VTIMEZONE
TZID:Europe/Rome
X-LIC-LOCATION:Europe/Rome
BEGIN:DAYLIGHT
DTSTART;VALUE=DATE-TIME:20150329T030000
TZNAME:CEST
TZOFFSETFROM:+0100
TZOFFSETTO:+0200
END:DAYLIGHT
END:VTIMEZONE
END:VCALENDAR
