BEGIN:VCALENDAR
VERSION:2.0
PRODID:-//Plone.org//NONSGML plone.app.event//EN
X-WR-TIMEZONE:Europe/Rome
BEGIN:VEVENT
SUMMARY:Workshop: Misura
DTSTART;TZID=Europe/Rome;VALUE=DATE-TIME:20150707T173000
DTEND;TZID=Europe/Rome;VALUE=DATE-TIME:20150707T193000
DTSTAMP;VALUE=DATE-TIME:20260425T223016Z
UID:203d19d970524f8d904aa1fc84524c6b@stat.unibo.it
CREATED;VALUE=DATE-TIME:20150630T054241Z
DESCRIPTION:Progetto PRIN2011 "Misura".
LAST-MODIFIED;VALUE=DATE-TIME:20150630T054309Z
URL:https://stat.unibo.it/it/eventi/workshop-misura
END:VEVENT
BEGIN:VTIMEZONE
TZID:Europe/Rome
X-LIC-LOCATION:Europe/Rome
BEGIN:DAYLIGHT
DTSTART;VALUE=DATE-TIME:20150329T030000
TZNAME:CEST
TZOFFSETFROM:+0100
TZOFFSETTO:+0200
END:DAYLIGHT
END:VTIMEZONE
END:VCALENDAR
