BEGIN:VCALENDAR
VERSION:2.0
PRODID:-//Plone.org//NONSGML plone.app.event//EN
X-WR-TIMEZONE:Europe/Rome
BEGIN:VEVENT
SUMMARY:Wolfram Technology Tour Italia 2019
DTSTART;TZID=Europe/Rome;VALUE=DATE-TIME:20190524T091500
DTEND;TZID=Europe/Rome;VALUE=DATE-TIME:20190524T123000
DTSTAMP;VALUE=DATE-TIME:20260425T231933Z
UID:cebc429372834e8ba591722fab5696a1@stat.unibo.it
CREATED;VALUE=DATE-TIME:20190509T112117Z
LAST-MODIFIED;VALUE=DATE-TIME:20190509T112352Z
URL:https://stat.unibo.it/it/eventi/wolfram-technology-tour-italia-2019
END:VEVENT
BEGIN:VTIMEZONE
TZID:Europe/Rome
X-LIC-LOCATION:Europe/Rome
BEGIN:DAYLIGHT
DTSTART;VALUE=DATE-TIME:20190331T030000
TZNAME:CEST
TZOFFSETFROM:+0100
TZOFFSETTO:+0200
END:DAYLIGHT
END:VTIMEZONE
END:VCALENDAR
