BEGIN:VCALENDAR
VERSION:2.0
PRODID:-//Plone.org//NONSGML plone.app.event//EN
X-WR-TIMEZONE:Europe/Rome
BEGIN:VEVENT
SUMMARY:Welcome seminars 2016: "Bootstrap inference conditional on nuisanc
 e processes"
DTSTART;TZID=Europe/Rome;VALUE=DATE-TIME:20160505T131500
DTEND;TZID=Europe/Rome;VALUE=DATE-TIME:20160505T160000
DTSTAMP;VALUE=DATE-TIME:20260425T042910Z
UID:2a845e845afb471fa48fc91e2c9aefe9@stat.unibo.it
CREATED;VALUE=DATE-TIME:20160428T075011Z
LAST-MODIFIED;VALUE=DATE-TIME:20160428T075104Z
URL:https://stat.unibo.it/it/eventi/welcome-seminars-2016-bootstrap-infere
 nce-conditional-on-nuisance-processes
END:VEVENT
BEGIN:VTIMEZONE
TZID:Europe/Rome
X-LIC-LOCATION:Europe/Rome
BEGIN:DAYLIGHT
DTSTART;VALUE=DATE-TIME:20160327T030000
TZNAME:CEST
TZOFFSETFROM:+0100
TZOFFSETTO:+0200
END:DAYLIGHT
END:VTIMEZONE
END:VCALENDAR
