BEGIN:VCALENDAR
VERSION:2.0
PRODID:-//Plone.org//NONSGML plone.app.event//EN
X-WR-TIMEZONE:Europe/Rome
BEGIN:VEVENT
SUMMARY:The Price of Uncertainty: Fertility Intentions and Global Risks in
  Four Countries
DTSTART;TZID=Europe/Rome;VALUE=DATE-TIME:20251002T113000
DTEND;TZID=Europe/Rome;VALUE=DATE-TIME:20251002T123000
DTSTAMP;VALUE=DATE-TIME:20260419T154059Z
UID:2511fe94c31c426abf829e28426142ac@stat.unibo.it
CREATED;VALUE=DATE-TIME:20250925T085554Z
DESCRIPTION:Chen Peng (Bocconi University)
LAST-MODIFIED;VALUE=DATE-TIME:20250925T090152Z
URL:https://stat.unibo.it/it/eventi/the-price-of-uncertainty-fertility-int
 entions-and-global-risks-in-four-countries
END:VEVENT
BEGIN:VTIMEZONE
TZID:Europe/Rome
X-LIC-LOCATION:Europe/Rome
BEGIN:DAYLIGHT
DTSTART;VALUE=DATE-TIME:20250330T030000
TZNAME:CEST
TZOFFSETFROM:+0100
TZOFFSETTO:+0200
END:DAYLIGHT
END:VTIMEZONE
END:VCALENDAR
