BEGIN:VCALENDAR
VERSION:2.0
PRODID:-//Plone.org//NONSGML plone.app.event//EN
X-WR-TIMEZONE:Europe/Rome
BEGIN:VEVENT
SUMMARY:Tavola rotonda: Soft & emotional skills: scienza e ricerca a confr
 onto
DTSTART;TZID=Europe/Rome;VALUE=DATE-TIME:20180618T091500
DTEND;TZID=Europe/Rome;VALUE=DATE-TIME:20180618T163000
DTSTAMP;VALUE=DATE-TIME:20260425T185744Z
UID:d197c00e7f67463cb733ac238124e1bc@stat.unibo.it
CREATED;VALUE=DATE-TIME:20180516T074800Z
LAST-MODIFIED;VALUE=DATE-TIME:20180516T074826Z
URL:https://stat.unibo.it/it/eventi/tavola-rotonda-soft-emotional-skills-s
 cienza-e-ricerca-a-confronto
END:VEVENT
BEGIN:VTIMEZONE
TZID:Europe/Rome
X-LIC-LOCATION:Europe/Rome
BEGIN:DAYLIGHT
DTSTART;VALUE=DATE-TIME:20180325T030000
TZNAME:CEST
TZOFFSETFROM:+0100
TZOFFSETTO:+0200
END:DAYLIGHT
END:VTIMEZONE
END:VCALENDAR
