BEGIN:VCALENDAR
VERSION:2.0
PRODID:-//Plone.org//NONSGML plone.app.event//EN
X-WR-TIMEZONE:Europe/Rome
BEGIN:VEVENT
SUMMARY:Student Cafè sul Bando Erasmus+ 2024/25
DTSTART;TZID=Europe/Rome;VALUE=DATE-TIME:20240122T150000
DTEND;TZID=Europe/Rome;VALUE=DATE-TIME:20240122T170000
DTSTAMP;VALUE=DATE-TIME:20260419T164921Z
UID:fd8b08bad0214d529edb94df586f5bdf@stat.unibo.it
CREATED;VALUE=DATE-TIME:20240115T134004Z
DESCRIPTION:Incontro via Microsoft teams | Meeting on Microsoft Teams
LAST-MODIFIED;VALUE=DATE-TIME:20240115T134054Z
URL:https://stat.unibo.it/it/eventi/student-cafe-sul-bando-erasmus-2024-25
END:VEVENT
BEGIN:VTIMEZONE
TZID:Europe/Rome
X-LIC-LOCATION:Europe/Rome
BEGIN:STANDARD
DTSTART;VALUE=DATE-TIME:20231029T020000
TZNAME:CET
TZOFFSETFROM:+0200
TZOFFSETTO:+0100
END:STANDARD
END:VTIMEZONE
END:VCALENDAR
