BEGIN:VCALENDAR
VERSION:2.0
PRODID:-//Plone.org//NONSGML plone.app.event//EN
X-WR-TIMEZONE:Europe/Rome
BEGIN:VEVENT
SUMMARY:Internal Seminars 2017: "The use of spatial information in entropy
  measures"
DTSTART;VALUE=DATE:20170508
DTEND;VALUE=DATE:20170509
DTSTAMP;VALUE=DATE-TIME:20260425T145625Z
UID:15513efafe984a73b920cdf01d5e218d@stat.unibo.it
CREATED;VALUE=DATE-TIME:20170502T083806Z
LAST-MODIFIED;VALUE=DATE-TIME:20170502T090051Z
URL:https://stat.unibo.it/it/eventi/statistisc-seminars-2017-the-use-of-sp
 atial-information-in-entropy-measures
END:VEVENT
END:VCALENDAR
