BEGIN:VCALENDAR
VERSION:2.0
PRODID:-//Plone.org//NONSGML plone.app.event//EN
X-WR-TIMEZONE:Europe/Rome
BEGIN:VEVENT
SUMMARY:Statistics seminar 2019 - “Robust decision making for cost minim
 ization under uncertainty”
DTSTART;TZID=Europe/Rome;VALUE=DATE-TIME:20190117T143000
DTEND;TZID=Europe/Rome;VALUE=DATE-TIME:20190117T163000
DTSTAMP;VALUE=DATE-TIME:20260422T223724Z
UID:282784110f7a47b893477cdbc9872022@stat.unibo.it
CREATED;VALUE=DATE-TIME:20181221T090700Z
LAST-MODIFIED;VALUE=DATE-TIME:20181221T090725Z
URL:https://stat.unibo.it/it/eventi/statistics-seminar-2019-201crobust-dec
 ision-making-for-cost-minimization-under-uncertainty201d
END:VEVENT
BEGIN:VTIMEZONE
TZID:Europe/Rome
X-LIC-LOCATION:Europe/Rome
BEGIN:STANDARD
DTSTART;VALUE=DATE-TIME:20181028T020000
TZNAME:CET
TZOFFSETFROM:+0200
TZOFFSETTO:+0100
END:STANDARD
END:VTIMEZONE
END:VCALENDAR
