BEGIN:VCALENDAR
VERSION:2.0
PRODID:-//Plone.org//NONSGML plone.app.event//EN
X-WR-TIMEZONE:Europe/Rome
BEGIN:VEVENT
SUMMARY:Statistics seminar 2019 - “Dynamic Discrete Mixtures and High-Fr
 equency Prices"
DTSTART;VALUE=DATE:20190129
DTEND;VALUE=DATE:20190130
DTSTAMP;VALUE=DATE-TIME:20260424T233235Z
UID:22a010dc94d545b6a55e920ce0a81762@stat.unibo.it
CREATED;VALUE=DATE-TIME:20190115T084050Z
LAST-MODIFIED;VALUE=DATE-TIME:20190128T084726Z
URL:https://stat.unibo.it/it/eventi/statistics-seminar-2019-201cdynamic-di
 screte-mixtures-and-high-frequency-prices
END:VEVENT
END:VCALENDAR
