BEGIN:VCALENDAR
VERSION:2.0
PRODID:-//Plone.org//NONSGML plone.app.event//EN
X-WR-TIMEZONE:Europe/Rome
BEGIN:VEVENT
SUMMARY:Statistics seminar 2018 - Data Quality in Social Research: A Metho
 dological Agenda for the Era of Big Data
DTSTART;VALUE=DATE:20180118
DTEND;VALUE=DATE:20180119
DTSTAMP;VALUE=DATE-TIME:20260423T215753Z
UID:483155923fae4f37adec00ebb4b9ced8@stat.unibo.it
CREATED;VALUE=DATE-TIME:20180111T082946Z
DESCRIPTION: Data Quality in Social Research: A Methodological Agenda for 
 the Era of Big Data
LAST-MODIFIED;VALUE=DATE-TIME:20180111T083158Z
URL:https://stat.unibo.it/it/eventi/statistics-seminar-2018
END:VEVENT
END:VCALENDAR
