BEGIN:VCALENDAR
VERSION:2.0
PRODID:-//Plone.org//NONSGML plone.app.event//EN
X-WR-TIMEZONE:Europe/Rome
BEGIN:VEVENT
SUMMARY:Statistics seminar 2018: Use of scanner data for measuring spatial
  price level etc.
DTSTART;TZID=Europe/Rome;VALUE=DATE-TIME:20180222T150000
DTEND;TZID=Europe/Rome;VALUE=DATE-TIME:20180222T160000
DTSTAMP;VALUE=DATE-TIME:20260421T015542Z
UID:04b129aa2dc54073b554401f99558e51@stat.unibo.it
CREATED;VALUE=DATE-TIME:20180215T084003Z
LAST-MODIFIED;VALUE=DATE-TIME:20180215T084020Z
URL:https://stat.unibo.it/it/eventi/statistics-seminar-2018-use-of-scanner
 -data-for-measuring-spatial-price-level-etc
END:VEVENT
BEGIN:VTIMEZONE
TZID:Europe/Rome
X-LIC-LOCATION:Europe/Rome
BEGIN:STANDARD
DTSTART;VALUE=DATE-TIME:20171029T020000
TZNAME:CET
TZOFFSETFROM:+0200
TZOFFSETTO:+0100
END:STANDARD
END:VTIMEZONE
END:VCALENDAR
