BEGIN:VCALENDAR
VERSION:2.0
PRODID:-//Plone.org//NONSGML plone.app.event//EN
X-WR-TIMEZONE:Europe/Rome
BEGIN:VEVENT
SUMMARY:Statistics Seminar 2018: Temporal and Spatio-Temporal Random Parti
 tion Models
DTSTART;TZID=Europe/Rome;VALUE=DATE-TIME:20181213T140000
DTEND;TZID=Europe/Rome;VALUE=DATE-TIME:20181213T160000
DTSTAMP;VALUE=DATE-TIME:20260425T124518Z
UID:d2dc53b89b9d4431837a0fe0598c3f7d@stat.unibo.it
CREATED;VALUE=DATE-TIME:20181129T091028Z
LAST-MODIFIED;VALUE=DATE-TIME:20181129T091204Z
URL:https://stat.unibo.it/it/eventi/statistics-seminar-2018-temporal-and-s
 patio-temporal-random-partition-models
END:VEVENT
BEGIN:VTIMEZONE
TZID:Europe/Rome
X-LIC-LOCATION:Europe/Rome
BEGIN:STANDARD
DTSTART;VALUE=DATE-TIME:20181028T020000
TZNAME:CET
TZOFFSETFROM:+0200
TZOFFSETTO:+0100
END:STANDARD
END:VTIMEZONE
END:VCALENDAR
