BEGIN:VCALENDAR
VERSION:2.0
PRODID:-//Plone.org//NONSGML plone.app.event//EN
X-WR-TIMEZONE:Europe/Rome
BEGIN:VEVENT
SUMMARY:Statistics seminar 2018:  Regularized Estimation of High Dimension
 al Auto- and Cross-Covariance Matrices
DTSTART;TZID=Europe/Rome;VALUE=DATE-TIME:20180913T164500
DTEND;TZID=Europe/Rome;VALUE=DATE-TIME:20180913T174500
DTSTAMP;VALUE=DATE-TIME:20260425T185744Z
UID:8039e82ac36b41fca1311594e0694cf5@stat.unibo.it
CREATED;VALUE=DATE-TIME:20180911T064140Z
LAST-MODIFIED;VALUE=DATE-TIME:20180912T065257Z
URL:https://stat.unibo.it/it/eventi/statistics-seminar-2018-regularized-es
 timation-of-high-dimensional-auto-and-cross-covariance-matrices
END:VEVENT
BEGIN:VTIMEZONE
TZID:Europe/Rome
X-LIC-LOCATION:Europe/Rome
BEGIN:DAYLIGHT
DTSTART;VALUE=DATE-TIME:20180325T030000
TZNAME:CEST
TZOFFSETFROM:+0100
TZOFFSETTO:+0200
END:DAYLIGHT
END:VTIMEZONE
END:VCALENDAR
