BEGIN:VCALENDAR
VERSION:2.0
PRODID:-//Plone.org//NONSGML plone.app.event//EN
X-WR-TIMEZONE:Europe/Rome
BEGIN:VEVENT
SUMMARY:Statistics seminar 2018: Partial Least Square methods for omics da
 ta sets
DTSTART;VALUE=DATE:20180927
DTEND;VALUE=DATE:20180928
DTSTAMP;VALUE=DATE-TIME:20260425T140558Z
UID:0f9827f5157344cbb8813d50335f4e4b@stat.unibo.it
CREATED;VALUE=DATE-TIME:20180904T071428Z
LAST-MODIFIED;VALUE=DATE-TIME:20180924T063813Z
URL:https://stat.unibo.it/it/eventi/statistics-seminar-2018-partial-least-
 square-methods-for-omics-data-sets
END:VEVENT
END:VCALENDAR
