BEGIN:VCALENDAR
VERSION:2.0
PRODID:-//Plone.org//NONSGML plone.app.event//EN
X-WR-TIMEZONE:Europe/Rome
BEGIN:VEVENT
SUMMARY:Statistics seminar 2018 - On Wong-Zakai approximation theorems for
  Ito stochastic differential equations
DTSTART;VALUE=DATE:20180124
DTEND;VALUE=DATE:20180125
DTSTAMP;VALUE=DATE-TIME:20260425T052739Z
UID:5f580c370a9442e4ada8a2228d926800@stat.unibo.it
CREATED;VALUE=DATE-TIME:20180111T084051Z
LAST-MODIFIED;VALUE=DATE-TIME:20180111T084104Z
URL:https://stat.unibo.it/it/eventi/statistics-seminar-2018-on-wong-zakai-
 approximation-theorems-for-ito-stochastic-differential-equations
END:VEVENT
END:VCALENDAR
