BEGIN:VCALENDAR
VERSION:2.0
PRODID:-//Plone.org//NONSGML plone.app.event//EN
X-WR-TIMEZONE:Europe/Rome
BEGIN:VEVENT
SUMMARY:Statistics seminar 2018: Model averaging and weighted-average leas
 t squares
DTSTART;TZID=Europe/Rome;VALUE=DATE-TIME:20180517T113000
DTEND;TZID=Europe/Rome;VALUE=DATE-TIME:20180517T133000
DTSTAMP;VALUE=DATE-TIME:20260425T210453Z
UID:075bdb5ac6734cd2a348017c9ffc6360@stat.unibo.it
CREATED;VALUE=DATE-TIME:20180511T061154Z
LAST-MODIFIED;VALUE=DATE-TIME:20180511T061726Z
URL:https://stat.unibo.it/it/eventi/statistics-seminar-2018-model-averagin
 g-and-weighted-average-least-squares
END:VEVENT
BEGIN:VTIMEZONE
TZID:Europe/Rome
X-LIC-LOCATION:Europe/Rome
BEGIN:DAYLIGHT
DTSTART;VALUE=DATE-TIME:20180325T030000
TZNAME:CEST
TZOFFSETFROM:+0100
TZOFFSETTO:+0200
END:DAYLIGHT
END:VTIMEZONE
END:VCALENDAR
