BEGIN:VCALENDAR
VERSION:2.0
PRODID:-//Plone.org//NONSGML plone.app.event//EN
X-WR-TIMEZONE:Europe/Rome
BEGIN:VEVENT
SUMMARY:Statistics seminar 2018: Measuring and Monitoring Regional Competi
 tiveness etc.
DTSTART;VALUE=DATE:20180420
DTEND;VALUE=DATE:20180421
DTSTAMP;VALUE=DATE-TIME:20260425T235545Z
UID:b07c8aef6b9047c2bb863cc53a60b457@stat.unibo.it
CREATED;VALUE=DATE-TIME:20180413T094619Z
LAST-MODIFIED;VALUE=DATE-TIME:20180413T094715Z
URL:https://stat.unibo.it/it/eventi/statistics-seminar-2018-measuring-and-
 monitoring-regional-competitiveness-etc
END:VEVENT
END:VCALENDAR
