BEGIN:VCALENDAR
VERSION:2.0
PRODID:-//Plone.org//NONSGML plone.app.event//EN
X-WR-TIMEZONE:Europe/Rome
BEGIN:VEVENT
SUMMARY:Statistics seminar 2018: Experimental Design for Cloud Seeding
DTSTART;TZID=Europe/Rome;VALUE=DATE-TIME:20181025T140000
DTEND;TZID=Europe/Rome;VALUE=DATE-TIME:20181025T160000
DTSTAMP;VALUE=DATE-TIME:20260425T224213Z
UID:4ed7719a3a48475498eb88e16f2eaee1@stat.unibo.it
CREATED;VALUE=DATE-TIME:20181010T095557Z
LAST-MODIFIED;VALUE=DATE-TIME:20181010T095619Z
URL:https://stat.unibo.it/it/eventi/statistics-seminar-2018-experimental-d
 esign-for-cloud-seeding
END:VEVENT
BEGIN:VTIMEZONE
TZID:Europe/Rome
X-LIC-LOCATION:Europe/Rome
BEGIN:DAYLIGHT
DTSTART;VALUE=DATE-TIME:20180325T030000
TZNAME:CEST
TZOFFSETFROM:+0100
TZOFFSETTO:+0200
END:DAYLIGHT
END:VTIMEZONE
END:VCALENDAR
