BEGIN:VCALENDAR
VERSION:2.0
PRODID:-//Plone.org//NONSGML plone.app.event//EN
X-WR-TIMEZONE:Europe/Rome
BEGIN:VEVENT
SUMMARY:Statistics seminar 2018: Community Detection in Partial Correlatio
 n Network Models
DTSTART;VALUE=DATE:20180510
DTEND;VALUE=DATE:20180511
DTSTAMP;VALUE=DATE-TIME:20260425T152006Z
UID:dc9c08f29a6f46548320f33b307cad6e@stat.unibo.it
CREATED;VALUE=DATE-TIME:20180502T071815Z
LAST-MODIFIED;VALUE=DATE-TIME:20180502T071905Z
URL:https://stat.unibo.it/it/eventi/statistics-seminar-2018-community-dete
 ction-in-partial-correlation-network-models
END:VEVENT
END:VCALENDAR
