BEGIN:VCALENDAR
VERSION:2.0
PRODID:-//Plone.org//NONSGML plone.app.event//EN
X-WR-TIMEZONE:Europe/Rome
BEGIN:VEVENT
SUMMARY:Statistics seminar 2018: Asymptotic Theory for Rotated Multivariat
 e GARCH Models
DTSTART;TZID=Europe/Rome;VALUE=DATE-TIME:20181108T160000
DTEND;TZID=Europe/Rome;VALUE=DATE-TIME:20181108T180000
DTSTAMP;VALUE=DATE-TIME:20260425T124856Z
UID:00ad4baeb2354de1b5a764c46431f5e0@stat.unibo.it
CREATED;VALUE=DATE-TIME:20181017T070028Z
LAST-MODIFIED;VALUE=DATE-TIME:20181017T070051Z
URL:https://stat.unibo.it/it/eventi/statistics-seminar-2018-asymptotic-the
 ory-for-rotated-multivariate-garch-models
END:VEVENT
BEGIN:VTIMEZONE
TZID:Europe/Rome
X-LIC-LOCATION:Europe/Rome
BEGIN:STANDARD
DTSTART;VALUE=DATE-TIME:20181028T020000
TZNAME:CET
TZOFFSETFROM:+0200
TZOFFSETTO:+0100
END:STANDARD
END:VTIMEZONE
END:VCALENDAR
