BEGIN:VCALENDAR
VERSION:2.0
PRODID:-//Plone.org//NONSGML plone.app.event//EN
X-WR-TIMEZONE:Europe/Rome
BEGIN:VEVENT
SUMMARY:Statistics seminar 2018 "Co-integration and control: assessing the
  impact of events using time series data"
DTSTART;TZID=Europe/Rome;VALUE=DATE-TIME:20180607T143000
DTEND;TZID=Europe/Rome;VALUE=DATE-TIME:20180607T163000
DTSTAMP;VALUE=DATE-TIME:20260425T134715Z
UID:3f9974a559a640af9be5e934d2976165@stat.unibo.it
CREATED;VALUE=DATE-TIME:20180530T062201Z
LAST-MODIFIED;VALUE=DATE-TIME:20180530T111539Z
URL:https://stat.unibo.it/it/eventi/statistics-seminar-2018-1
END:VEVENT
BEGIN:VTIMEZONE
TZID:Europe/Rome
X-LIC-LOCATION:Europe/Rome
BEGIN:DAYLIGHT
DTSTART;VALUE=DATE-TIME:20180325T030000
TZNAME:CEST
TZOFFSETFROM:+0100
TZOFFSETTO:+0200
END:DAYLIGHT
END:VTIMEZONE
END:VCALENDAR
