BEGIN:VCALENDAR
VERSION:2.0
PRODID:-//Plone.org//NONSGML plone.app.event//EN
X-WR-TIMEZONE:Europe/Rome
BEGIN:VEVENT
SUMMARY:Statistics seminar 2016: The Effects of Seasonal Adjustment Method
 s in Nonparametric Trend-Cycle Prediction
DTSTART;TZID=Europe/Rome;VALUE=DATE-TIME:20160504T143000
DTEND;TZID=Europe/Rome;VALUE=DATE-TIME:20160504T160000
DTSTAMP;VALUE=DATE-TIME:20260425T200051Z
UID:380b77378d774fbdbc427848bdebb713@stat.unibo.it
CREATED;VALUE=DATE-TIME:20160422T063729Z
DESCRIPTION:Seminario di Statistica.
LAST-MODIFIED;VALUE=DATE-TIME:20160422T063940Z
URL:https://stat.unibo.it/it/eventi/statistics-seminar-2016-the-effects-of
 -seasonal-adjustment-methods-in-nonparametric-trend-cycle-prediction
END:VEVENT
BEGIN:VTIMEZONE
TZID:Europe/Rome
X-LIC-LOCATION:Europe/Rome
BEGIN:DAYLIGHT
DTSTART;VALUE=DATE-TIME:20160327T030000
TZNAME:CEST
TZOFFSETFROM:+0100
TZOFFSETTO:+0200
END:DAYLIGHT
END:VTIMEZONE
END:VCALENDAR
