BEGIN:VCALENDAR
VERSION:2.0
PRODID:-//Plone.org//NONSGML plone.app.event//EN
X-WR-TIMEZONE:Europe/Rome
BEGIN:VEVENT
SUMMARY:Statistics seminar 2016: "OTRIMLE for robust clustering\, and some
  thoughts on comparing clustering methods Christian Hennig (joint work wit
 h Pietro Coretto)"
DTSTART;TZID=Europe/Rome;VALUE=DATE-TIME:20160218T140000
DTEND;TZID=Europe/Rome;VALUE=DATE-TIME:20160218T150000
DTSTAMP;VALUE=DATE-TIME:20260426T050551Z
UID:494e0a065c3d4e309108b6181c53ab75@stat.unibo.it
CREATED;VALUE=DATE-TIME:20160121T100257Z
DESCRIPTION:Seminario di Statistica
LAST-MODIFIED;VALUE=DATE-TIME:20160121T100309Z
URL:https://stat.unibo.it/it/eventi/statistics-seminar-2016-otrimle-for-ro
 bust-clustering-and-some-thoughts-on-comparing-clustering-methods-christia
 n-hennig-joint-work-with-pietro-coretto
END:VEVENT
BEGIN:VTIMEZONE
TZID:Europe/Rome
X-LIC-LOCATION:Europe/Rome
BEGIN:STANDARD
DTSTART;VALUE=DATE-TIME:20151025T020000
TZNAME:CET
TZOFFSETFROM:+0200
TZOFFSETTO:+0100
END:STANDARD
END:VTIMEZONE
END:VCALENDAR
