BEGIN:VCALENDAR
VERSION:2.0
PRODID:-//Plone.org//NONSGML plone.app.event//EN
X-WR-TIMEZONE:Europe/Rome
BEGIN:VEVENT
SUMMARY:Statistics seminar 2016: "Microdati per la ricerca e l’analisi t
 erritoriale a sostegno delle policy degli Enti Locali"
DTSTART;TZID=Europe/Rome;VALUE=DATE-TIME:20161011T140000
DTEND;TZID=Europe/Rome;VALUE=DATE-TIME:20161011T160000
DTSTAMP;VALUE=DATE-TIME:20260421T103924Z
UID:cbe0387c38e74a03a1c28e50516adc33@stat.unibo.it
CREATED;VALUE=DATE-TIME:20161005T071835Z
DESCRIPTION:Nell’ambito dell’insegnamento “Integrazione Statistica d
 i Basi di Dati”\nModulo “Record Linkage”
LAST-MODIFIED;VALUE=DATE-TIME:20161005T072212Z
URL:https://stat.unibo.it/it/eventi/statistics-seminar-2016-microdati-per-
 la-ricerca-e-l2019analisi-territoriale-a-sostegno-delle-policy-degli-enti-
 locali
END:VEVENT
BEGIN:VTIMEZONE
TZID:Europe/Rome
X-LIC-LOCATION:Europe/Rome
BEGIN:DAYLIGHT
DTSTART;VALUE=DATE-TIME:20160327T030000
TZNAME:CEST
TZOFFSETFROM:+0100
TZOFFSETTO:+0200
END:DAYLIGHT
END:VTIMEZONE
END:VCALENDAR
