BEGIN:VCALENDAR
VERSION:2.0
PRODID:-//Plone.org//NONSGML plone.app.event//EN
X-WR-TIMEZONE:Europe/Rome
BEGIN:VEVENT
SUMMARY:Statistics seminar 2016: "L’integrazione dei dati:metodi di Stat
 istical Matching e loro applicazione"
DTSTART;TZID=Europe/Rome;VALUE=DATE-TIME:20161018T140000
DTEND;TZID=Europe/Rome;VALUE=DATE-TIME:20161018T160000
DTSTAMP;VALUE=DATE-TIME:20260425T225935Z
UID:21f82bb6dc4443599e61a804240c5b69@stat.unibo.it
CREATED;VALUE=DATE-TIME:20161012T053627Z
DESCRIPTION:Nell’ambito dell’insegnamento “Integrazione Statistica d
 i Basi di Dati”\nModulo “Record Linkage”
LAST-MODIFIED;VALUE=DATE-TIME:20161012T053704Z
URL:https://stat.unibo.it/it/eventi/statistics-seminar-2016-l2019integrazi
 one-dei-dati-metodi-di-statistical-matching-e-loro-applicazione
END:VEVENT
BEGIN:VTIMEZONE
TZID:Europe/Rome
X-LIC-LOCATION:Europe/Rome
BEGIN:DAYLIGHT
DTSTART;VALUE=DATE-TIME:20160327T030000
TZNAME:CEST
TZOFFSETFROM:+0100
TZOFFSETTO:+0200
END:DAYLIGHT
END:VTIMEZONE
END:VCALENDAR
