BEGIN:VCALENDAR
VERSION:2.0
PRODID:-//Plone.org//NONSGML plone.app.event//EN
X-WR-TIMEZONE:Europe/Rome
BEGIN:VEVENT
SUMMARY:Statistics seminar 2016: "Clustering high dimensional mixed data: 
 joint analysis of phenotypic and genotypic data"
DTSTART;TZID=Europe/Rome;VALUE=DATE-TIME:20160621T143000
DTEND;TZID=Europe/Rome;VALUE=DATE-TIME:20160621T160000
DTSTAMP;VALUE=DATE-TIME:20260425T015549Z
UID:cf78b6dc3c1345fe89cac6d6eeb04d10@stat.unibo.it
CREATED;VALUE=DATE-TIME:20160527T072019Z
LAST-MODIFIED;VALUE=DATE-TIME:20160527T072043Z
URL:https://stat.unibo.it/it/eventi/statistics-seminar-2016-clustering-hig
 h-dimensional-mixed-data-joint-analysis-of-phenotypic-and-genotypic-data
END:VEVENT
BEGIN:VTIMEZONE
TZID:Europe/Rome
X-LIC-LOCATION:Europe/Rome
BEGIN:DAYLIGHT
DTSTART;VALUE=DATE-TIME:20160327T030000
TZNAME:CEST
TZOFFSETFROM:+0100
TZOFFSETTO:+0200
END:DAYLIGHT
END:VTIMEZONE
END:VCALENDAR
