BEGIN:VCALENDAR
VERSION:2.0
PRODID:-//Plone.org//NONSGML plone.app.event//EN
X-WR-TIMEZONE:Europe/Rome
BEGIN:VEVENT
SUMMARY:Statistics seminar 2016: "A general theory for Bayesian inference 
 with linked and duplicated data"
DTSTART;TZID=Europe/Rome;VALUE=DATE-TIME:20160218T150000
DTEND;TZID=Europe/Rome;VALUE=DATE-TIME:20160218T160000
DTSTAMP;VALUE=DATE-TIME:20260425T023059Z
UID:e8321823791347a496e10630d2f82b68@stat.unibo.it
CREATED;VALUE=DATE-TIME:20160121T095533Z
DESCRIPTION:Seminario di Statistica
LAST-MODIFIED;VALUE=DATE-TIME:20160121T100416Z
URL:https://stat.unibo.it/it/eventi/statistics-seminar-2016-a-general-theo
 ry-for-bayesian-inference-with-linked-and-duplicated-data
END:VEVENT
BEGIN:VTIMEZONE
TZID:Europe/Rome
X-LIC-LOCATION:Europe/Rome
BEGIN:STANDARD
DTSTART;VALUE=DATE-TIME:20151025T020000
TZNAME:CET
TZOFFSETFROM:+0200
TZOFFSETTO:+0100
END:STANDARD
END:VTIMEZONE
END:VCALENDAR
