BEGIN:VCALENDAR
VERSION:2.0
PRODID:-//Plone.org//NONSGML plone.app.event//EN
X-WR-TIMEZONE:Europe/Rome
BEGIN:VEVENT
SUMMARY:Statistics seminar 2015: "Controlling Variables in Social Systems 
 - A structural modelling approach"
DTSTART;TZID=Europe/Rome;VALUE=DATE-TIME:20151001T163000
DTEND;TZID=Europe/Rome;VALUE=DATE-TIME:20151001T180000
DTSTAMP;VALUE=DATE-TIME:20260425T040951Z
UID:755dd05699f1453b9543fec3f4486dba@stat.unibo.it
CREATED;VALUE=DATE-TIME:20150911T045453Z
DESCRIPTION:Seminario di Statistica
LAST-MODIFIED;VALUE=DATE-TIME:20150911T051704Z
URL:https://stat.unibo.it/it/eventi/statistics-seminar-2015-controlling-va
 riables-in-social-systems-a-structural-modelling-approach
END:VEVENT
BEGIN:VTIMEZONE
TZID:Europe/Rome
X-LIC-LOCATION:Europe/Rome
BEGIN:DAYLIGHT
DTSTART;VALUE=DATE-TIME:20150329T030000
TZNAME:CEST
TZOFFSETFROM:+0100
TZOFFSETTO:+0200
END:DAYLIGHT
END:VTIMEZONE
END:VCALENDAR
