BEGIN:VCALENDAR
VERSION:2.0
PRODID:-//Plone.org//NONSGML plone.app.event//EN
X-WR-TIMEZONE:Europe/Rome
BEGIN:VEVENT
SUMMARY:Statistics seminar 2015: "Calibration of Local Volatility Models f
 rom Option Data for Commodities"
DTSTART;TZID=Europe/Rome;VALUE=DATE-TIME:20150918T140000
DTEND;TZID=Europe/Rome;VALUE=DATE-TIME:20150918T160000
DTSTAMP;VALUE=DATE-TIME:20260426T030336Z
UID:458c933afd2142b4b9c4428fa07d24f6@stat.unibo.it
CREATED;VALUE=DATE-TIME:20150911T073735Z
DESCRIPTION:Seminario di Statistica
LAST-MODIFIED;VALUE=DATE-TIME:20150911T073747Z
URL:https://stat.unibo.it/it/eventi/statistics-seminar-2015-calibration-of
 -local-volatility-models-from-option-data-for-commodities
END:VEVENT
BEGIN:VTIMEZONE
TZID:Europe/Rome
X-LIC-LOCATION:Europe/Rome
BEGIN:DAYLIGHT
DTSTART;VALUE=DATE-TIME:20150329T030000
TZNAME:CEST
TZOFFSETFROM:+0100
TZOFFSETTO:+0200
END:DAYLIGHT
END:VTIMEZONE
END:VCALENDAR
