BEGIN:VCALENDAR
VERSION:2.0
PRODID:-//Plone.org//NONSGML plone.app.event//EN
X-WR-TIMEZONE:Europe/Rome
BEGIN:VEVENT
SUMMARY:Statistics seminar 2016: "Are Gibbs-type priors the most natural g
 eneralization of the Dirichlet process?"
DTSTART;TZID=Europe/Rome;VALUE=DATE-TIME:20160114T113000
DTEND;TZID=Europe/Rome;VALUE=DATE-TIME:20160114T130000
DTSTAMP;VALUE=DATE-TIME:20260426T013256Z
UID:747a3540a0f940808d40b38ad8a5cc16@stat.unibo.it
CREATED;VALUE=DATE-TIME:20151222T093729Z
DESCRIPTION:Seminario
LAST-MODIFIED;VALUE=DATE-TIME:20160120T090633Z
URL:https://stat.unibo.it/it/eventi/statistics-seminar-2015-are-gibbs-type
 -priors-the-most-natural-generalization-of-the-dirichlet-process
END:VEVENT
BEGIN:VTIMEZONE
TZID:Europe/Rome
X-LIC-LOCATION:Europe/Rome
BEGIN:STANDARD
DTSTART;VALUE=DATE-TIME:20151025T020000
TZNAME:CET
TZOFFSETFROM:+0200
TZOFFSETTO:+0100
END:STANDARD
END:VTIMEZONE
END:VCALENDAR
