BEGIN:VCALENDAR
VERSION:2.0
PRODID:-//Plone.org//NONSGML plone.app.event//EN
X-WR-TIMEZONE:Europe/Rome
BEGIN:VEVENT
SUMMARY:Sherlock Holmes e la scienza dei dati
DTSTART;TZID=Europe/Rome;VALUE=DATE-TIME:20240520T170000
DTEND;TZID=Europe/Rome;VALUE=DATE-TIME:20240520T190000
DTSTAMP;VALUE=DATE-TIME:20260419T182015Z
UID:eb5a0177ee104567856c21a4e8e43728@stat.unibo.it
CREATED;VALUE=DATE-TIME:20240517T095043Z
DESCRIPTION:Tavola rotonda organizzata dal Dipartimento di Scienze Statist
 iche dell'Università di Bologna
LAST-MODIFIED;VALUE=DATE-TIME:20240517T095254Z
URL:https://stat.unibo.it/it/eventi/sherlock-holmes-e-la-scienza-dei-dati
END:VEVENT
BEGIN:VTIMEZONE
TZID:Europe/Rome
X-LIC-LOCATION:Europe/Rome
BEGIN:DAYLIGHT
DTSTART;VALUE=DATE-TIME:20240331T030000
TZNAME:CEST
TZOFFSETFROM:+0100
TZOFFSETTO:+0200
END:DAYLIGHT
END:VTIMEZONE
END:VCALENDAR
