BEGIN:VCALENDAR
VERSION:2.0
PRODID:-//Plone.org//NONSGML plone.app.event//EN
X-WR-TIMEZONE:Europe/Rome
BEGIN:VEVENT
SUMMARY:Ph.D.final defence
DTSTART;TZID=Europe/Rome;VALUE=DATE-TIME:20170215T110000
DTEND;TZID=Europe/Rome;VALUE=DATE-TIME:20170215T140000
DTSTAMP;VALUE=DATE-TIME:20260425T150210Z
UID:4745df51cc774a60bca163d2b23824a1@stat.unibo.it
CREATED;VALUE=DATE-TIME:20170206T102229Z
LAST-MODIFIED;VALUE=DATE-TIME:20170206T135717Z
URL:https://stat.unibo.it/it/eventi/ph.d.final-defence
END:VEVENT
BEGIN:VTIMEZONE
TZID:Europe/Rome
X-LIC-LOCATION:Europe/Rome
BEGIN:STANDARD
DTSTART;VALUE=DATE-TIME:20161030T020000
TZNAME:CET
TZOFFSETFROM:+0200
TZOFFSETTO:+0100
END:STANDARD
END:VTIMEZONE
END:VCALENDAR
