BEGIN:VCALENDAR
VERSION:2.0
PRODID:-//Plone.org//NONSGML plone.app.event//EN
X-WR-TIMEZONE:Europe/Rome
BEGIN:VEVENT
SUMMARY:Ph.D.final defence
DTSTART;TZID=Europe/Rome;VALUE=DATE-TIME:20170217T110000
DTEND;TZID=Europe/Rome;VALUE=DATE-TIME:20170217T140000
DTSTAMP;VALUE=DATE-TIME:20260425T151656Z
UID:35e187f0bf69493a8c802299e73810d0@stat.unibo.it
CREATED;VALUE=DATE-TIME:20170206T103315Z
LAST-MODIFIED;VALUE=DATE-TIME:20170208T073052Z
URL:https://stat.unibo.it/it/eventi/ph.d.final-defence-1
END:VEVENT
BEGIN:VTIMEZONE
TZID:Europe/Rome
X-LIC-LOCATION:Europe/Rome
BEGIN:STANDARD
DTSTART;VALUE=DATE-TIME:20161030T020000
TZNAME:CET
TZOFFSETFROM:+0200
TZOFFSETTO:+0100
END:STANDARD
END:VTIMEZONE
END:VCALENDAR
