BEGIN:VCALENDAR
VERSION:2.0
PRODID:-//Plone.org//NONSGML plone.app.event//EN
X-WR-TIMEZONE:Europe/Rome
BEGIN:VEVENT
SUMMARY:Meeting su Data Science e Machine Learning
DTSTART;TZID=Europe/Rome;VALUE=DATE-TIME:20180927T183000
DTEND;TZID=Europe/Rome;VALUE=DATE-TIME:20180927T200000
DTSTAMP;VALUE=DATE-TIME:20260425T213322Z
UID:7ae0061e31fb47e1b2685d126ec3a83b@stat.unibo.it
CREATED;VALUE=DATE-TIME:20180924T061329Z
LAST-MODIFIED;VALUE=DATE-TIME:20180924T061422Z
URL:https://stat.unibo.it/it/eventi/meeting-su-data-science-e-machine-lear
 ning
END:VEVENT
BEGIN:VTIMEZONE
TZID:Europe/Rome
X-LIC-LOCATION:Europe/Rome
BEGIN:DAYLIGHT
DTSTART;VALUE=DATE-TIME:20180325T030000
TZNAME:CEST
TZOFFSETFROM:+0100
TZOFFSETTO:+0200
END:DAYLIGHT
END:VTIMEZONE
END:VCALENDAR
