BEGIN:VCALENDAR
VERSION:2.0
PRODID:-//Plone.org//NONSGML plone.app.event//EN
X-WR-TIMEZONE:Europe/Rome
BEGIN:VEVENT
SUMMARY:Internal seminars: "Bayesian finite mixture model with overlapping
  clusters for the analysis of a terrorist network data"
DTSTART;TZID=Europe/Rome;VALUE=DATE-TIME:20170207T131500
DTEND;TZID=Europe/Rome;VALUE=DATE-TIME:20170207T140000
DTSTAMP;VALUE=DATE-TIME:20260421T034121Z
UID:babb034ff40e4d5b8570a3202f4775e7@stat.unibo.it
CREATED;VALUE=DATE-TIME:20170206T071811Z
LAST-MODIFIED;VALUE=DATE-TIME:20170206T071958Z
URL:https://stat.unibo.it/it/eventi/internal-seminars-bayesian-finite-mixt
 ure-model-with-overlapping-clusters-for-the-analysis-of-a-terrorist-networ
 k-data
END:VEVENT
BEGIN:VTIMEZONE
TZID:Europe/Rome
X-LIC-LOCATION:Europe/Rome
BEGIN:STANDARD
DTSTART;VALUE=DATE-TIME:20161030T020000
TZNAME:CET
TZOFFSETFROM:+0200
TZOFFSETTO:+0100
END:STANDARD
END:VTIMEZONE
END:VCALENDAR
