BEGIN:VCALENDAR
VERSION:2.0
PRODID:-//Plone.org//NONSGML plone.app.event//EN
X-WR-TIMEZONE:Europe/Rome
BEGIN:VEVENT
SUMMARY:Internal Seminars 2017: Factor model estimation by composite minim
 ization
DTSTART;VALUE=DATE:20170608
DTEND;VALUE=DATE:20170609
DTSTAMP;VALUE=DATE-TIME:20260426T021645Z
UID:9909a6e04e7a48e884380e9ce81d9c10@stat.unibo.it
CREATED;VALUE=DATE-TIME:20170605T054047Z
LAST-MODIFIED;VALUE=DATE-TIME:20170605T054137Z
URL:https://stat.unibo.it/it/eventi/internal-seminars-2017-factor-model-es
 timation-by-composite-minimization
END:VEVENT
END:VCALENDAR
