BEGIN:VCALENDAR
VERSION:2.0
PRODID:-//Plone.org//NONSGML plone.app.event//EN
X-WR-TIMEZONE:Europe/Rome
BEGIN:VEVENT
SUMMARY:Indicatori bibliometrici e valutazione della ricerca: strumenti e 
 nozioni di base. Sessione di formazione per PhDs
DTSTART;TZID=Europe/Rome;VALUE=DATE-TIME:20160622T150000
DTEND;TZID=Europe/Rome;VALUE=DATE-TIME:20160622T170000
DTSTAMP;VALUE=DATE-TIME:20260426T013329Z
UID:012a13fc67c84391b1c6cbe61774e1bf@stat.unibo.it
CREATED;VALUE=DATE-TIME:20160615T101914Z
DESCRIPTION:Incontri di formazione organizzati dalla Biblioteca del Dipart
 imento per i dottorandi in Scienze Statistiche
LAST-MODIFIED;VALUE=DATE-TIME:20160615T104534Z
URL:https://stat.unibo.it/it/eventi/indicatori-bibliometrici-e-valutazione
 -della-ricerca-strumenti-e-nozioni-di-base-formazionePhD
END:VEVENT
BEGIN:VTIMEZONE
TZID:Europe/Rome
X-LIC-LOCATION:Europe/Rome
BEGIN:DAYLIGHT
DTSTART;VALUE=DATE-TIME:20160327T030000
TZNAME:CEST
TZOFFSETFROM:+0100
TZOFFSETTO:+0200
END:DAYLIGHT
END:VTIMEZONE
END:VCALENDAR
