BEGIN:VCALENDAR
VERSION:2.0
PRODID:-//Plone.org//NONSGML plone.app.event//EN
X-WR-TIMEZONE:Europe/Rome
BEGIN:VEVENT
SUMMARY:Conferenza IFCS 2015
DTSTART;TZID=Europe/Rome;VALUE=DATE-TIME:20150706T090000
DTEND;TZID=Europe/Rome;VALUE=DATE-TIME:20150708T180000
DTSTAMP;VALUE=DATE-TIME:20260425T030947Z
UID:22ffe8fa5f8945e6a4f8f850f1c7481c@stat.unibo.it
CREATED;VALUE=DATE-TIME:20150416T080054Z
DESCRIPTION:Conferenza internazionale.
LAST-MODIFIED;VALUE=DATE-TIME:20150416T095439Z
URL:https://stat.unibo.it/it/eventi/ifcs-2015
END:VEVENT
BEGIN:VTIMEZONE
TZID:Europe/Rome
X-LIC-LOCATION:Europe/Rome
BEGIN:DAYLIGHT
DTSTART;VALUE=DATE-TIME:20150329T030000
TZNAME:CEST
TZOFFSETFROM:+0100
TZOFFSETTO:+0200
END:DAYLIGHT
END:VTIMEZONE
END:VCALENDAR
