BEGIN:VCALENDAR
VERSION:2.0
PRODID:-//Plone.org//NONSGML plone.app.event//EN
X-WR-TIMEZONE:Europe/Rome
BEGIN:VEVENT
SUMMARY:Giornata della Ricerca - STAT
DTSTART;TZID=Europe/Rome;VALUE=DATE-TIME:20241029T090000
DTEND;TZID=Europe/Rome;VALUE=DATE-TIME:20241029T130000
DTSTAMP;VALUE=DATE-TIME:20260419T182015Z
UID:e254b2e15f35493c833515acaf79c3de@stat.unibo.it
CREATED;VALUE=DATE-TIME:20241023T083207Z
DESCRIPTION:Research Day
LAST-MODIFIED;VALUE=DATE-TIME:20241023T083456Z
URL:https://stat.unibo.it/it/eventi/giornata-della-ricerca-stat
END:VEVENT
BEGIN:VTIMEZONE
TZID:Europe/Rome
X-LIC-LOCATION:Europe/Rome
BEGIN:STANDARD
DTSTART;VALUE=DATE-TIME:20241027T020000
TZNAME:CET
TZOFFSETFROM:+0200
TZOFFSETTO:+0100
END:STANDARD
END:VTIMEZONE
END:VCALENDAR
