BEGIN:VCALENDAR
VERSION:2.0
PRODID:-//Plone.org//NONSGML plone.app.event//EN
X-WR-TIMEZONE:Europe/Rome
BEGIN:VEVENT
SUMMARY:Fantascienza e Demografia
DTSTART;TZID=Europe/Rome;VALUE=DATE-TIME:20240301T170000
DTEND;TZID=Europe/Rome;VALUE=DATE-TIME:20240301T190000
DTSTAMP;VALUE=DATE-TIME:20260419T182015Z
UID:1fc9d84a3d8f4be596e60f54e5476d1e@stat.unibo.it
CREATED;VALUE=DATE-TIME:20240217T110843Z
DESCRIPTION:Tavola rotonda del Dipartimento di Scienze Statistiche dell’
 Università di Bologna
LAST-MODIFIED;VALUE=DATE-TIME:20240227T074128Z
URL:https://stat.unibo.it/it/eventi/frantascienza-e-demografia
END:VEVENT
BEGIN:VTIMEZONE
TZID:Europe/Rome
X-LIC-LOCATION:Europe/Rome
BEGIN:STANDARD
DTSTART;VALUE=DATE-TIME:20231029T020000
TZNAME:CET
TZOFFSETFROM:+0200
TZOFFSETTO:+0100
END:STANDARD
END:VTIMEZONE
END:VCALENDAR
