BEGIN:VCALENDAR
VERSION:2.0
PRODID:-//Plone.org//NONSGML plone.app.event//EN
X-WR-TIMEZONE:Europe/Rome
BEGIN:VEVENT
SUMMARY:Forum Permanente sullo Sviluppo e la Cooperazione
DTSTART;TZID=Europe/Rome;VALUE=DATE-TIME:20180514T093000
DTEND;TZID=Europe/Rome;VALUE=DATE-TIME:20180514T170000
DTSTAMP;VALUE=DATE-TIME:20260425T223244Z
UID:0d682c559a3c4d13a29d6f830f91d550@stat.unibo.it
CREATED;VALUE=DATE-TIME:20180502T070313Z
DESCRIPTION:Il forum intende essere un momento di incontro stabile organiz
 zato dai due corsi di laurea per una riflessione e un confronto sui temi d
 ello sviluppo e della cooperazione internazionale\, anche al fine di offri
 re indirizzi e suggerimenti di studio e lavoro agli studenti.
LAST-MODIFIED;VALUE=DATE-TIME:20180502T070516Z
URL:https://stat.unibo.it/it/eventi/forum-permanente-sullo-sviluppo-e-la-c
 ooperazione
END:VEVENT
BEGIN:VTIMEZONE
TZID:Europe/Rome
X-LIC-LOCATION:Europe/Rome
BEGIN:DAYLIGHT
DTSTART;VALUE=DATE-TIME:20180325T030000
TZNAME:CEST
TZOFFSETFROM:+0100
TZOFFSETTO:+0200
END:DAYLIGHT
END:VTIMEZONE
END:VCALENDAR
