BEGIN:VCALENDAR
VERSION:2.0
PRODID:-//Plone.org//NONSGML plone.app.event//EN
X-WR-TIMEZONE:Europe/Rome
BEGIN:VEVENT
SUMMARY:H2020: opportunities\, strategies and tools
DTSTART;TZID=Europe/Rome;VALUE=DATE-TIME:20160408T100000
DTEND;TZID=Europe/Rome;VALUE=DATE-TIME:20160408T130000
DTSTAMP;VALUE=DATE-TIME:20260426T054217Z
UID:b5674a43992b48ec9d1c040f98685004@stat.unibo.it
CREATED;VALUE=DATE-TIME:20160318T113309Z
DESCRIPTION:An introduction to Horizon 2020 UE calls for PHD students of S
 tatistics and Management 
LAST-MODIFIED;VALUE=DATE-TIME:20160324T094409Z
URL:https://stat.unibo.it/it/eventi/formazione-per-i-dottorandi-h2020-oppo
 rtunities-strategies-and-tools
END:VEVENT
BEGIN:VTIMEZONE
TZID:Europe/Rome
X-LIC-LOCATION:Europe/Rome
BEGIN:DAYLIGHT
DTSTART;VALUE=DATE-TIME:20160327T030000
TZNAME:CEST
TZOFFSETFROM:+0100
TZOFFSETTO:+0200
END:DAYLIGHT
END:VTIMEZONE
END:VCALENDAR
