BEGIN:VCALENDAR
VERSION:2.0
PRODID:-//Plone.org//NONSGML plone.app.event//EN
X-WR-TIMEZONE:Europe/Rome
BEGIN:VEVENT
SUMMARY:Forecasting Net Migration By Age
DTSTART;TZID=Europe/Rome;VALUE=DATE-TIME:20251030T113000
DTEND;TZID=Europe/Rome;VALUE=DATE-TIME:20251030T123000
DTSTAMP;VALUE=DATE-TIME:20260424T222152Z
UID:60dafd9d13af4e0f9f57b481526115b3@stat.unibo.it
CREATED;VALUE=DATE-TIME:20251024T102836Z
DESCRIPTION:Speaker: Hana Ševčíková (University of Washington\, Seattl
 e\, WA)
LAST-MODIFIED;VALUE=DATE-TIME:20251024T103005Z
URL:https://stat.unibo.it/it/eventi/forecasting-net-migration-by-age
END:VEVENT
BEGIN:VTIMEZONE
TZID:Europe/Rome
X-LIC-LOCATION:Europe/Rome
BEGIN:STANDARD
DTSTART;VALUE=DATE-TIME:20251026T020000
TZNAME:CET
TZOFFSETFROM:+0200
TZOFFSETTO:+0100
END:STANDARD
END:VTIMEZONE
END:VCALENDAR
