BEGIN:VCALENDAR
VERSION:2.0
PRODID:-//Plone.org//NONSGML plone.app.event//EN
X-WR-TIMEZONE:Europe/Rome
BEGIN:VEVENT
SUMMARY:Finanza green: Sostegno al progresso scientifico e mitigazione dei
  rischi
DTSTART;TZID=Europe/Rome;VALUE=DATE-TIME:20240313T180000
DTEND;TZID=Europe/Rome;VALUE=DATE-TIME:20240313T193000
DTSTAMP;VALUE=DATE-TIME:20260419T201830Z
UID:37479763571448fd9f41e2973fa0d26c@stat.unibo.it
CREATED;VALUE=DATE-TIME:20240312T100353Z
DESCRIPTION:Relatore: Amia Santini (PhD in Scienze Statistiche)
LAST-MODIFIED;VALUE=DATE-TIME:20240312T100918Z
URL:https://stat.unibo.it/it/eventi/finanza-green-sostegno-al-progresso-sc
 ientifico-e-mitigazione-dei-rischi
END:VEVENT
BEGIN:VTIMEZONE
TZID:Europe/Rome
X-LIC-LOCATION:Europe/Rome
BEGIN:STANDARD
DTSTART;VALUE=DATE-TIME:20231029T020000
TZNAME:CET
TZOFFSETFROM:+0200
TZOFFSETTO:+0100
END:STANDARD
END:VTIMEZONE
END:VCALENDAR
