BEGIN:VCALENDAR
VERSION:2.0
PRODID:-//Plone.org//NONSGML plone.app.event//EN
X-WR-TIMEZONE:Europe/Rome
BEGIN:VEVENT
SUMMARY:Statistics seminar 2018: Sampling strategy for effective decisions
DTSTART;TZID=Europe/Rome;VALUE=DATE-TIME:20180523T143000
DTEND;TZID=Europe/Rome;VALUE=DATE-TIME:20180523T163000
DTSTAMP;VALUE=DATE-TIME:20260422T215753Z
UID:93dd15537af94ebdb9498aeb96327da8@stat.unibo.it
CREATED;VALUE=DATE-TIME:20180503T090209Z
LAST-MODIFIED;VALUE=DATE-TIME:20180516T061900Z
URL:https://stat.unibo.it/it/eventi/event.2018-05-03.0568969500
END:VEVENT
BEGIN:VTIMEZONE
TZID:Europe/Rome
X-LIC-LOCATION:Europe/Rome
BEGIN:DAYLIGHT
DTSTART;VALUE=DATE-TIME:20180325T030000
TZNAME:CEST
TZOFFSETFROM:+0100
TZOFFSETTO:+0200
END:DAYLIGHT
END:VTIMEZONE
END:VCALENDAR
