BEGIN:VCALENDAR
VERSION:2.0
PRODID:-//Plone.org//NONSGML plone.app.event//EN
X-WR-TIMEZONE:Europe/Rome
BEGIN:VEVENT
SUMMARY:Corso SIS: Foundations of Info-Metrics and Information-Theoretic M
 ehods of Inference
DTSTART;TZID=Europe/Rome;VALUE=DATE-TIME:20180108T090000
DTEND;TZID=Europe/Rome;VALUE=DATE-TIME:20180109T173000
DTSTAMP;VALUE=DATE-TIME:20260426T044858Z
UID:f12a3895429e4224812e9b769118bf95@stat.unibo.it
CREATED;VALUE=DATE-TIME:20171023T123223Z
LAST-MODIFIED;VALUE=DATE-TIME:20171023T123650Z
URL:https://stat.unibo.it/it/eventi/corso-della-scuola-sis
END:VEVENT
BEGIN:VTIMEZONE
TZID:Europe/Rome
X-LIC-LOCATION:Europe/Rome
BEGIN:STANDARD
DTSTART;VALUE=DATE-TIME:20171029T020000
TZNAME:CET
TZOFFSETFROM:+0200
TZOFFSETTO:+0100
END:STANDARD
END:VTIMEZONE
END:VCALENDAR
