BEGIN:VCALENDAR
VERSION:2.0
PRODID:-//Plone.org//NONSGML plone.app.event//EN
X-WR-TIMEZONE:Europe/Rome
BEGIN:VEVENT
SUMMARY:Numeri per decidere: Il ruolo dell'informazione geo-referenziata n
 ella gestione delle emergenze
DTSTART;TZID=Europe/Rome;VALUE=DATE-TIME:20161107T153000
DTEND;TZID=Europe/Rome;VALUE=DATE-TIME:20161107T180000
DTSTAMP;VALUE=DATE-TIME:20260425T031412Z
UID:84cf72b5611f448191d7cdee813e8d39@stat.unibo.it
CREATED;VALUE=DATE-TIME:20130301T101540Z
DESCRIPTION:Si avvia il 5° ciclo - 2016/17 di "Numeri per decidere: la st
 atistica per valutare e programmare a livello locale". Incontri con il Dip
 artimento di Scienze statistiche dell'Università di Bologna e la Regione 
 Emilia-Romagna
LAST-MODIFIED;VALUE=DATE-TIME:20161102T072926Z
URL:https://stat.unibo.it/it/eventi/copy_of_Numeriperdecidere_monitoraggio
 dispersioneurbana201401.htm
END:VEVENT
BEGIN:VTIMEZONE
TZID:Europe/Rome
X-LIC-LOCATION:Europe/Rome
BEGIN:STANDARD
DTSTART;VALUE=DATE-TIME:20161030T020000
TZNAME:CET
TZOFFSETFROM:+0200
TZOFFSETTO:+0100
END:STANDARD
END:VTIMEZONE
END:VCALENDAR
