BEGIN:VCALENDAR
VERSION:2.0
PRODID:-//Plone.org//NONSGML plone.app.event//EN
X-WR-TIMEZONE:Europe/Rome
BEGIN:VEVENT
SUMMARY:Cascade Sensitivity Measures (joint with S. Pesenti\, A. Tsanakas)
DTSTART;TZID=Europe/Rome;VALUE=DATE-TIME:20200220T143000
DTEND;TZID=Europe/Rome;VALUE=DATE-TIME:20200220T163000
DTSTAMP;VALUE=DATE-TIME:20260419T152134Z
UID:c6f8590a21d44b8aac4bcb66f4fc66b3@stat.unibo.it
CREATED;VALUE=DATE-TIME:20200213T114224Z
DESCRIPTION:Relatore: Pietro Millossovich (Cass Business School\, Universi
 ty of London e Università di Trieste)
LAST-MODIFIED;VALUE=DATE-TIME:20200213T114356Z
URL:https://stat.unibo.it/it/eventi/cascade-sensitivity-measures-joint-wit
 h-s-pesenti-a-tsanakas
END:VEVENT
BEGIN:VTIMEZONE
TZID:Europe/Rome
X-LIC-LOCATION:Europe/Rome
BEGIN:STANDARD
DTSTART;VALUE=DATE-TIME:20191027T020000
TZNAME:CET
TZOFFSETFROM:+0200
TZOFFSETTO:+0100
END:STANDARD
END:VTIMEZONE
END:VCALENDAR
